BEGIN:VCALENDAR
VERSION:2.0
PRODID:-//Maritzburg College - ECPv6.6.0.2//NONSGML v1.0//EN
CALSCALE:GREGORIAN
METHOD:PUBLISH
X-ORIGINAL-URL:https://mcollegetest.hmwd.co.za
X-WR-CALDESC:Events for Maritzburg College
REFRESH-INTERVAL;VALUE=DURATION:PT1H
X-Robots-Tag:noindex
X-PUBLISHED-TTL:PT1H
BEGIN:VTIMEZONE
TZID:UTC
BEGIN:STANDARD
TZOFFSETFROM:+0000
TZOFFSETTO:+0000
TZNAME:UTC
DTSTART:20230101T000000
END:STANDARD
END:VTIMEZONE
BEGIN:VEVENT
DTSTART;VALUE=DATE:20230408
DTEND;VALUE=DATE:20230412
DTSTAMP:20260421T083118
CREATED:20230406T122357Z
LAST-MODIFIED:20230419T101349Z
UID:14562-1680912000-1681257599@mcollegetest.hmwd.co.za
SUMMARY:Skonk Nicholson JUNIOR Rugby Festival U11 & U13
DESCRIPTION:Maritzburg College is proud to host the JUNIOR 2023 Skonk Nicholson Rugby Festival\, welcoming 16 primary school U11 & U13 teams and their supporters to our campus. \nWe sincerely hope that all who participate or spectate will enjoy all that is great in schoolboy sport\, namely the camaraderie\, team-spirit\, passion\, commitment and sportsmanship. These were all noble ideals fostered in his rugby teams over 35 seasons by the late Mr Nicholson himself – ones of which we today need to be more mindful than ever. \nA special welcome to the home of the Red-Black-White goes to all the players\, coaches\, managers and parents – we hope you have an enjoyable stay in Maritzburg. \n\nProgramme\n\n\nFixtures Day 1\nFixtures Day 2\nFixtures Day 3\n\n\n\nResults Day 1\nResults Day 2\nResults Day 3\n\n\n\n\n Add to calendar
URL:https://mcollegetest.hmwd.co.za/event/skonk-nicholson-junior-rugby-festival-u11-u13/
LOCATION:Maritzburg College\, 51 College Road\, Pietermartizburg
ATTACH;FMTTYPE=image/png:https://mcollegetest.hmwd.co.za/wp-content/uploads/2023/04/Skonk-junior-logoF.png
ORGANIZER;CN="Wian du Plessis":MAILTO:recruitment@mcollege.co.za
END:VEVENT
END:VCALENDAR